Workbook

Sheet حقوق سالیانه
A1: ردیف | B1: عنوان | C1: مبلغ
A2: 1 | B2: حقوق ماهیانه 30 روزه | C2: =C4*30 -> 53082840
A3: 2 | B3: حقوق ماهیانه 31 روزه | C3: =C4*31 -> 54852268
A4: 3 | B4: مزد روزانه | C4: 1769428
A5: 4 | B5: بن کارگری ماهیانه (حق خوار و بار ) | C5: 11000000
A6: 5 | B6: پایه سنوات به ازای هر روز | C6: =C7/30 -> 70000
A7: 6 | B7: پایه سنوات ماهیانه 30 روزه | C7: 2100000
A8: 7 | B8: حق مسکن ماهیانه | C8: 9000000
A9: 10 | B9: حق اولاد برای هر فرزند زیر 18 سال (یک فرزند) | C9: =C4*3*1 -> 5308284
A10: 11 | B10: حق اولاد برای هر فرزند زیر 18 سال (دو فرزند) | C10: =C4*3*2 -> 10616568
A11: 12 | B11: حق اولاد برای هر فرزند زیر 18 سال (سه فرزند) | C11: =C4*3*3 -> 15924852
A12: 13 | B12: عیدی پاداش معادل 60 روز حقوق برای هر سال | C12: =C4*60 -> 106165680
A13: 14 | B13: عیدی پاداش معادل 5 روز حقوق برای هر ماه | C13: =C4*5 -> 8847140
A14: 15 | B14: سنوات خدمت معادل 30 روز حقوق برای هر سال | C14: =C2 -> 53082840
A15: 16 | B15: سنوات خدمت معادل 2.5 روز حقوق برای هر ماه | C15: =C4*2.5 -> 4423570
A16: 17 | B16: مزد هر ساعت کار عادی (برابر با مزد روزانه تقسیم بر 7.33) | C16: =C4/7.33 -> 241395.36
A17: 18 | B17: فوق العاده اضافه کاری (بدون سابقه کار) 1.4 برابر مزد عادی هر ساعت | C17: =C16*1.4 -> 337953.51
A18: 19 | B18: فوق العاده شب کاری (بدون سابقه کار) 35% مزد ساعتی بابت هر ساعت | C18: =C16*35/100 -> 84488.377
A19: 20 | B19: فوق العاده نوبت کاری برای ماه 30 روزه (صبح عصر 10 درصد حقوق ماهیانه) | C19: =C2*10/100 -> 5308284
A20: 21 | B20: فوق العاده نوبت کاری برای ماه 30 روزه (صبح عصر شب 15 درصد حقوق ماهیانه) | C20: =C2*15/100 -> 7962426
A21: 22 | B21: فوق العاده نوبت کاری برای ماه 30 روزه (صبح شب و یا عصر شب 22.5 درصد حقوق ماهیانه) | C21: =C2*22.5/100 -> 11943639
A22: 23 | B22: تعطیل کاری هر ساعت (40درصد مزد ساعتی ) | C22: =C16*40/100 -> 96558.145
A23: 24 | B23: مرخصی برای هر روز (بدون احتساب حق اولاد) | C23: =(C2+C5+C8)/30 -> 2436094.7
A24: 25 | B24: مرخصی برای هر روز (با احتساب یک فرزند ) | C24: =C23+(C9/30) -> 2613037.5
A25: 26 | B25: مرخصی برای هر روز (با احتساب دو فرزند ) | C25: =C23+(C10/30) -> 2789980.3
A26: 27 | B26: مرخصی برای هر روز (با احتساب سه فرزند ) | C26: =C23+(C11/30) -> 2966923.1
B28: حداقل حقوق پرداختی با احتساب سنوات و عیدی ماهیانه | C28: =C2+C5+C8+C13+C15 -> 86353550
B29: اضافه می شود حق بیمه سهم کارفرما | C29: =(C2+C8)*23/100 -> 14279053
B30: حداقل هزینه حقوق | C30: =C28+C29 -> 1.006326e+08
B32: مجموع دریافتی کارگر مجرد برای ماه 30 روزه | C32: =(C2+C5+C8) -> 73082840
B34: مجموع دریافتی کارگر برای ماه 30 روزه + با یک فرزند | C34: =C32+C9 -> 78391124
B35: مجموع دریافتی کارگر برای ماه 30 روزه + با دو فرزند | C35: =C32+C10 -> 83699408
B36: مجموع دریافتی کارگر برای ماه 30 روزه + با سه فرزند | C36: =C32+C11 -> 89007692

Sheet ساعتی
A1: ردیف | B1: عنوان | C1: مبلغ
B2: مزد ساعتی | C2: ='حقوق سالیانه'!C16 -> 241395.36
A3: 1 | B3: بن کارگری به ازای هر ساعت | C3: =('حقوق سالیانه'!C5/30)/7.33 -> 50022.738
A4: 2 | B4: حق مسکن به ازای هر ساعت | C4: =('حقوق سالیانه'!C8/30)/7.33 -> 40927.694
A5: 3 | B5: حق اولاد برای هر فرزند زیر 18 سال (یک فرزند) به ازای هر ساعت | C5: =('حقوق سالیانه'!C9/30)/7.33 -> 24139.536
A6: 4 | B6: حق اولاد برای هر فرزند زیر 18 سال (دو فرزند) به ازای هر ساعت | C6: =C5*2 -> 48279.072
A7: 5 | B7: حق اولاد برای هر فرزند زیر 18 سال (سه فرزند) به ازای هر ساعت | C7: =C5*3 -> 72418.608
A8: 6 | B8: عیدی پاداش 98 (معادل 60 روز حقوق برای هر سال) به ازای هر ساعت | C8: =('حقوق سالیانه'!C13/30)/7.33 -> 40232.56
A9: 7 | B9: سنوات خدمت 98 (معادل 30 روز حقوق برای هر سال) به ازای هر ساعت | C9: =('حقوق سالیانه'!C15/30)/7.33 -> 20116.28
A10: 8 | B10: فوق العاده اضافه کاری 1.4 برابر مزد عادی هر ساعت | C10: ='حقوق سالیانه'!C17 -> 337953.51
A11: 9 | B11: محاسبه 2.5 روز مرخصی برای هر ماه به ازای هر ساعت (بدون احتساب فرزند) | C11: =('حقوق سالیانه'!C23*2.5)/(30*7.33) -> 27695.483
A12: 10 | B12: محاسبه 2.5 روز مرخصی برای هر ماه به ازای هر ساعت ( با احتساب یک فرزند) | C12: =('حقوق سالیانه'!C24*2.5)/(30*7.33) -> 29707.111
A13: 11 | B13: محاسبه 2.5 روز مرخصی برای هر ماه به ازای هر ساعت (با احتساب دو فرزند) | C13: =('حقوق سالیانه'!C25*2.5)/(30*7.33) -> 31718.739
A14: 12 | B14: محاسبه 2.5 روز مرخصی برای هر ماه به ازای هر ساعت (با احتساب سه فرزند) | C14: =('حقوق سالیانه'!C26*2.5)/(30*7.33) -> 33730.367
B16: حداقل پرداخت به ازای هر ساعت کار در قرارداد ساعتی | C16: =C2+C3+C4+C8+C9 -> 392694.63
B17: پرداخت به ازای هر روز کاری در قرارداد ساعتی | C17: =C16*7.33 -> 2878451.7
